BEGIN:VCALENDAR
VERSION:2.0
PRODID:-//Aktion FsA - ECPv4.6.11.1//NONSGML v1.0//EN
METHOD:PUBLISH
CALSCALE:GREGORIAN
METHOD:PUBLISH
X-WR-CALNAME:Aktion FsA
X-ORIGINAL-URL:https://aktion-fsa.de
X-WR-CALDESC:Veranstaltungen für Aktion Freiheit statt Angst e.V.
BEGIN:VEVENT
DTSTART;TZID=Europe/Berlin:20260614T140000
DTEND;TZID=Europe/Berlin:20260614T170000
DTSTAMP:20260420T124902Z
CREATED:20260420T124902Z
LAST-MODIFIED:20260420T124902Z
UID:4030-20260614@aktion-fsa.de
SUMMARY:Welfare not Warfare – Aufruf zum Frieden 
DESCRIPTION: Welfare not Warfare – Soziale Gerechtigkeit statt Krieg!   Am 14. Juni gehen wir für Frieden und Gerechtigkeit auf die Straße!  Wir schließen uns mit @stopmilitarisation.be zusammen und rufen zum Protest auf: für soziale Gerechtigkeit\,  gegen Krieg!  Wir rufen alle\,  die für Frieden und soziale Gerechtigkeit eintreten\,  dazu auf\,  sich der europäischen Demonstration in Brüssel am 14. Juni anzuschließen\,  um für Investitionen in Menschen statt in Krieg einzutreten.  - Für Frieden und Sicherheit – investiert in Gesundheit\,  Bildung\,  menschenwürdige Arbeitsplätze\,  Klimawende und soziale Sicherheit\,  nicht in Waffen und die Militarisierung der Gesellschaft.  - Für die Achtung des Völkerrechts – die UN-Charta wahren und die Würde aller Menschen schützen\,  Menschen- und Arbeitsrechte verteidigen\,  soziale und Klimagerechtigkeit fördern.  - Für Dialog und Diplomatie – Menschen und Länder zusammenbringen\,  statt sie auseinanderzutreiben. 
URL:https://a-fsa.de/events/4030-20260614.html
LOCATION:Brüssel\,  Bhf Brüssel-Nord
GEO:50.86027;4.3605
CATEGORIES:EU\,  Aufrüstung\, 
END:VEVENT
END:VCALENDAR
