BEGIN:VCALENDAR
VERSION:2.0
PRODID:-//Aktion FsA - ECPv4.6.11.1//NONSGML v1.0//EN
METHOD:PUBLISH
CALSCALE:GREGORIAN
METHOD:PUBLISH
X-WR-CALNAME:Aktion FsA
X-ORIGINAL-URL:https://aktion-fsa.de
X-WR-CALDESC:Veranstaltungen für Aktion Freiheit statt Angst e.V.
BEGIN:VEVENT
DTSTART;TZID=Europe/Berlin:20260430T000000
DTEND;TZID=Europe/Berlin:20260430T000000
DTSTAMP:20260420T124902Z
CREATED:20260420T124902Z
LAST-MODIFIED:20260420T124902Z
UID:4031-20260430@aktion-fsa.de
SUMMARY: Rock gegen Rechts Oldenburg! 
DESCRIPTION: Umsonst & draußen auf dem Schlossplatz!     Do. 30.4.  Schloßplatz\,  Oldenburg 
URL:https://a-fsa.de/events/4031-20260430.html
LOCATION:Oldenburg\,  Schloßplatz\,  Oldenburg
GEO:53.13738;8.2159
CATEGORIES:Rechtsaußen\,  Neo-Nazis\,  NSU\,  Faschisten\,  Rassismus\,  DGB\,   Rock gegen Rechts
END:VEVENT
END:VCALENDAR
