BEGIN:VCALENDAR
VERSION:2.0
PRODID:-//Aktion FsA - ECPv4.6.11.1//NONSGML v1.0//EN
METHOD:PUBLISH
CALSCALE:GREGORIAN
METHOD:PUBLISH
X-WR-CALNAME:Aktion FsA
X-ORIGINAL-URL:https://aktion-fsa.de
X-WR-CALDESC:Veranstaltungen für Aktion Freiheit statt Angst e.V.
BEGIN:VEVENT
DTSTART;TZID=Europe/Berlin:20260530T123000
DTEND;TZID=Europe/Berlin:20260530T150000
DTSTAMP:20260421T222501Z
CREATED:20260421T222501Z
LAST-MODIFIED:20260421T222501Z
UID:4032-20260530@aktion-fsa.de
SUMMARY:Demo gegen Mittelstreckenraketen
DESCRIPTION: Demo gegen Mittelstreckenraketen   Nach einer Demonstration durch Wiesbaden soll gegen 14:30 Uhr die  Abschlusskundgebung auf dem Kranzplatz stattfinden.    Die anstehenden Demonstrationen und Kundgebungen  gegen Mittelstreckenwaffen in Grafenwöhr und Wiesbaden am Samstag\,  30. Mai  2026 zu unterstützen. Die Auftaktkundgebung findet am Samstag\,  30. Mai 2025  um 12:30 Uhr am Wiesbadener Hauptbahnhof und in Grafenwöhr um 13:00 Uhr am  Stadtpark statt.    Weitere Infos unter: www.keine-raketen-nach-grafenwoehr.de/    Wir bitten den Aufruf zu unterstützen und für die Aktionen zu mobilisieren:  https://www.friedenskooperative.de/aktion/keine-mittelstreckenwaffen-nirgends-demos-am-305-in-wiesbaden  
URL:https://a-fsa.de/events/4032-20260530.html
LOCATION:Wiesbaden\,  Hauptbahnhof
GEO:50.070805;8.24283
CATEGORIES:Mittelstreckenraketen\,  Gafenwöhr\,  Wiesbaden
END:VEVENT
END:VCALENDAR
